BEGIN:VCALENDAR
VERSION:2.0
PRODID:-//Visit Palma - ECPv6.15.20//NONSGML v1.0//EN
CALSCALE:GREGORIAN
METHOD:PUBLISH
X-WR-CALNAME:Visit Palma
X-ORIGINAL-URL:https://visitpalma.com/es/
X-WR-CALDESC:Eventos para Visit Palma
REFRESH-INTERVAL;VALUE=DURATION:PT1H
X-Robots-Tag:noindex
X-PUBLISHED-TTL:PT1H
BEGIN:VTIMEZONE
TZID:Europe/Madrid
BEGIN:DAYLIGHT
TZOFFSETFROM:+0100
TZOFFSETTO:+0200
TZNAME:CEST
DTSTART:20250330T010000
END:DAYLIGHT
BEGIN:STANDARD
TZOFFSETFROM:+0200
TZOFFSETTO:+0100
TZNAME:CET
DTSTART:20251026T010000
END:STANDARD
BEGIN:DAYLIGHT
TZOFFSETFROM:+0100
TZOFFSETTO:+0200
TZNAME:CEST
DTSTART:20260329T010000
END:DAYLIGHT
BEGIN:STANDARD
TZOFFSETFROM:+0200
TZOFFSETTO:+0100
TZNAME:CET
DTSTART:20261025T010000
END:STANDARD
BEGIN:DAYLIGHT
TZOFFSETFROM:+0100
TZOFFSETTO:+0200
TZNAME:CEST
DTSTART:20270328T010000
END:DAYLIGHT
BEGIN:STANDARD
TZOFFSETFROM:+0200
TZOFFSETTO:+0100
TZNAME:CET
DTSTART:20271031T010000
END:STANDARD
END:VTIMEZONE
BEGIN:VEVENT
DTSTART;TZID=Europe/Madrid:20260516T163000
DTEND;TZID=Europe/Madrid:20260516T173000
DTSTAMP:20260424T125743
CREATED:20260422T102157Z
LAST-MODIFIED:20260422T102157Z
UID:20219-1778949000-1778952600@visitpalma.com
SUMMARY:ESPECTÁCULO LOS 3 CERDITOS
DESCRIPTION:Disfruta de Los 3 Cerditos\, un espectáculo infantil lleno de música\, color y diversión. Con una puesta en escena que combina títeres\, actores\, proyecciones y música original de Dubbi Kids\, los niños y niñas participan activamente cantando\, riendo y ayudando a los cerditos a construir sus casas. \nUna propuesta teatral cercana y visual que transmite valores como la amistad\, la diversidad y el trabajo en equipo. \nDuración: 50 minutos
URL:https://visitpalma.com/es/event/espectaculo-los-3-cerditos/
LOCATION:Illes Balears
CATEGORIES:Infantil
ATTACH;FMTTYPE=image/jpeg:https://visitpalma.com/wp-content/uploads/2026/04/Los-3-cerditos.jpg
END:VEVENT
END:VCALENDAR