BEGIN:VCALENDAR
VERSION:2.0
PRODID:-//Visit Palma - ECPv6.15.20//NONSGML v1.0//EN
CALSCALE:GREGORIAN
METHOD:PUBLISH
X-WR-CALNAME:Visit Palma
X-ORIGINAL-URL:https://visitpalma.com/ca/
X-WR-CALDESC:Esdeveniments per Visit Palma
REFRESH-INTERVAL;VALUE=DURATION:PT1H
X-Robots-Tag:noindex
X-PUBLISHED-TTL:PT1H
BEGIN:VTIMEZONE
TZID:Europe/Madrid
BEGIN:DAYLIGHT
TZOFFSETFROM:+0100
TZOFFSETTO:+0200
TZNAME:CEST
DTSTART:20240331T010000
END:DAYLIGHT
BEGIN:STANDARD
TZOFFSETFROM:+0200
TZOFFSETTO:+0100
TZNAME:CET
DTSTART:20241027T010000
END:STANDARD
BEGIN:DAYLIGHT
TZOFFSETFROM:+0100
TZOFFSETTO:+0200
TZNAME:CEST
DTSTART:20250330T010000
END:DAYLIGHT
BEGIN:STANDARD
TZOFFSETFROM:+0200
TZOFFSETTO:+0100
TZNAME:CET
DTSTART:20251026T010000
END:STANDARD
BEGIN:DAYLIGHT
TZOFFSETFROM:+0100
TZOFFSETTO:+0200
TZNAME:CEST
DTSTART:20260329T010000
END:DAYLIGHT
BEGIN:STANDARD
TZOFFSETFROM:+0200
TZOFFSETTO:+0100
TZNAME:CET
DTSTART:20261025T010000
END:STANDARD
END:VTIMEZONE
BEGIN:VEVENT
DTSTART;TZID=Europe/Madrid:20251212T200000
DTEND;TZID=Europe/Madrid:20251212T210000
DTSTAMP:20260424T114149
CREATED:20251117T110125Z
LAST-MODIFIED:20251117T110125Z
UID:18642-1765569600-1765573200@visitpalma.com
SUMMARY:Lo que ocurre en un instante
DESCRIPTION:Una peça de dansa contemporània guanyadora del Tanzplattform Bern 2024\, Suïssa. \nLo que ocurre en un instante és un projecte artístic per a sis intèrprets que pren com a base conceptual la percepció de l’instant\, establint una relació directa entre temps i creació. Quant dura un instant? Quant canvia en un instant? Aquestes dues premisses són l’estendard argumental sobre el qual s’estructura una peça que pretén investigar amb el cos la irreversibilitat del present i la nostra capacitat d’allargar el moment.
URL:https://visitpalma.com/ca/event/lo-que-ocurre-en-un-instante/
LOCATION:Teatro Principal\, Carrer de la Riera\, 2\, Palma\, Illes Balears\, 07003
CATEGORIES:Música i dansa
ATTACH;FMTTYPE=image/jpeg:https://visitpalma.com/wp-content/uploads/2025/11/Lo-que-ocurre-en-un-instante.jpg
END:VEVENT
END:VCALENDAR