BEGIN:VCALENDAR
VERSION:2.0
PRODID:-//Visit Palma - ECPv6.15.20//NONSGML v1.0//EN
CALSCALE:GREGORIAN
METHOD:PUBLISH
X-WR-CALNAME:Visit Palma
X-ORIGINAL-URL:https://visitpalma.com/ca/
X-WR-CALDESC:Esdeveniments per Visit Palma
REFRESH-INTERVAL;VALUE=DURATION:PT1H
X-Robots-Tag:noindex
X-PUBLISHED-TTL:PT1H
BEGIN:VTIMEZONE
TZID:Europe/Madrid
BEGIN:DAYLIGHT
TZOFFSETFROM:+0100
TZOFFSETTO:+0200
TZNAME:CEST
DTSTART:20240331T010000
END:DAYLIGHT
BEGIN:STANDARD
TZOFFSETFROM:+0200
TZOFFSETTO:+0100
TZNAME:CET
DTSTART:20241027T010000
END:STANDARD
BEGIN:DAYLIGHT
TZOFFSETFROM:+0100
TZOFFSETTO:+0200
TZNAME:CEST
DTSTART:20250330T010000
END:DAYLIGHT
BEGIN:STANDARD
TZOFFSETFROM:+0200
TZOFFSETTO:+0100
TZNAME:CET
DTSTART:20251026T010000
END:STANDARD
BEGIN:DAYLIGHT
TZOFFSETFROM:+0100
TZOFFSETTO:+0200
TZNAME:CEST
DTSTART:20260329T010000
END:DAYLIGHT
BEGIN:STANDARD
TZOFFSETFROM:+0200
TZOFFSETTO:+0100
TZNAME:CET
DTSTART:20261025T010000
END:STANDARD
END:VTIMEZONE
BEGIN:VEVENT
DTSTART;TZID=Europe/Madrid:20251207T190000
DTEND;TZID=Europe/Madrid:20251208T000000
DTSTAMP:20260424T121047
CREATED:20251118T114107Z
LAST-MODIFIED:20251118T114107Z
UID:18714-1765134000-1765152000@visitpalma.com
SUMMARY:Sara Baras - "Vuela"
DESCRIPTION:Quan la seva companyia compleix 25 anys\, Sara Baras vol retre un homenatge al geni per antonomàsia de la guitarra\, Paco de Lucía\, des del respecte\, l’afecte i l’amor que tant es professaven. Així neix “Vuela”\, un espectacle creat per ser inoblidable\, per transportar-nos una vegada més a aquest món màgic que només Sara Baras és capaç de crear. \nAssumint en aquesta ocasió la responsabilitat de tributar el geni d’Algesires\, aquest viatge coreogràfic està compost per 15 peces úniques\, cadascuna d’elles girant al voltant d’una paraula\, creant així\, amb el nostre llenguatge flamenc\, paraules en moviment. Un recorregut fascinant dividit en quatre actes\, cadascun teixeix una narrativa poderosa.  \n· Fusta\, que ens recorda la força d’unes arrels\, la calidesa de l’ésser.\n· Mar\, que ens convida a navegar en la passió i ser com l’aigua.\n· Mort\, una manera d’explorar les emocions humanes des del més profund.\n· Volar\, l’única manera de fugir sense córrer\, només deixar-se portar per la celebració i l’alegria\, una oportunitat que només la música\, la dansa i els sentiments ens poden oferir.
URL:https://visitpalma.com/ca/event/sara-baras-vuela/
LOCATION:Auditorium Palma\, Av. Gabriel Roca\, 18\, Palma\, Illes Balears\, 07014\, Spain
CATEGORIES:Música i dansa
ATTACH;FMTTYPE=image/jpeg:https://visitpalma.com/wp-content/uploads/2025/11/Sara-Baras-Vuela.jpg
END:VEVENT
END:VCALENDAR