BEGIN:VCALENDAR
VERSION:2.0
PRODID:-//Visit Palma - ECPv6.15.20//NONSGML v1.0//EN
CALSCALE:GREGORIAN
METHOD:PUBLISH
X-WR-CALNAME:Visit Palma
X-ORIGINAL-URL:https://visitpalma.com/ca/
X-WR-CALDESC:Esdeveniments per Visit Palma
REFRESH-INTERVAL;VALUE=DURATION:PT1H
X-Robots-Tag:noindex
X-PUBLISHED-TTL:PT1H
BEGIN:VTIMEZONE
TZID:Europe/Madrid
BEGIN:DAYLIGHT
TZOFFSETFROM:+0100
TZOFFSETTO:+0200
TZNAME:CEST
DTSTART:20240331T010000
END:DAYLIGHT
BEGIN:STANDARD
TZOFFSETFROM:+0200
TZOFFSETTO:+0100
TZNAME:CET
DTSTART:20241027T010000
END:STANDARD
BEGIN:DAYLIGHT
TZOFFSETFROM:+0100
TZOFFSETTO:+0200
TZNAME:CEST
DTSTART:20250330T010000
END:DAYLIGHT
BEGIN:STANDARD
TZOFFSETFROM:+0200
TZOFFSETTO:+0100
TZNAME:CET
DTSTART:20251026T010000
END:STANDARD
BEGIN:DAYLIGHT
TZOFFSETFROM:+0100
TZOFFSETTO:+0200
TZNAME:CEST
DTSTART:20260329T010000
END:DAYLIGHT
BEGIN:STANDARD
TZOFFSETFROM:+0200
TZOFFSETTO:+0100
TZNAME:CET
DTSTART:20261025T010000
END:STANDARD
END:VTIMEZONE
BEGIN:VEVENT
DTSTART;TZID=Europe/Madrid:20251206T203000
DTEND;TZID=Europe/Madrid:20251206T223000
DTSTAMP:20260424T114157
CREATED:20251113T103526Z
LAST-MODIFIED:20251113T103526Z
UID:18539-1765053000-1765060200@visitpalma.com
SUMMARY:La Ludwig Band\, amb l’invitad especial Cabot
DESCRIPTION:Prolífics\, virtuosos i desenfadats són els tres adjectius que millor defineixen a LA LUDWIG BAND\, la banda que està revolucionant el panorama català gràcies a les seves lletres agudes i el seu esperit satíric.\nDesprés de 4 discos en tan sols 4 anys\, arriben al 2026 amb un nou disc sota el braç. Un nou disc que és el més llarg de la seva trajectòria amb 14 cançons de les quals ja se’n poden sentir “Millor amb ell”\, “Ha plogut des de llavors” i “On t’has ficat aquesta nit”. Les lletres segueixen sent el pal de paller de La Ludwig Band i troben el punt en comú en personatges vinguts de l’amistat\, la feina i l’amor.
URL:https://visitpalma.com/ca/event/la-ludwig-band-amb-linvitad-especial-cabot/
LOCATION:Trui Teatre\, Camí de Son Rapinya\, 29\, Ponent\, Palma\, Illes Balears\, 07013\, Spain
CATEGORIES:Música i dansa
ATTACH;FMTTYPE=image/jpeg:https://visitpalma.com/wp-content/uploads/2025/11/Ludwig-Band.jpg
END:VEVENT
END:VCALENDAR