BEGIN:VCALENDAR
VERSION:2.0
PRODID:-//Visit Palma - ECPv6.15.20//NONSGML v1.0//EN
CALSCALE:GREGORIAN
METHOD:PUBLISH
X-ORIGINAL-URL:https://visitpalma.com/ca/
X-WR-CALDESC:Esdeveniments per Visit Palma
REFRESH-INTERVAL;VALUE=DURATION:PT1H
X-Robots-Tag:noindex
X-PUBLISHED-TTL:PT1H
BEGIN:VTIMEZONE
TZID:Europe/Madrid
BEGIN:DAYLIGHT
TZOFFSETFROM:+0100
TZOFFSETTO:+0200
TZNAME:CEST
DTSTART:20240331T010000
END:DAYLIGHT
BEGIN:STANDARD
TZOFFSETFROM:+0200
TZOFFSETTO:+0100
TZNAME:CET
DTSTART:20241027T010000
END:STANDARD
BEGIN:DAYLIGHT
TZOFFSETFROM:+0100
TZOFFSETTO:+0200
TZNAME:CEST
DTSTART:20250330T010000
END:DAYLIGHT
BEGIN:STANDARD
TZOFFSETFROM:+0200
TZOFFSETTO:+0100
TZNAME:CET
DTSTART:20251026T010000
END:STANDARD
BEGIN:DAYLIGHT
TZOFFSETFROM:+0100
TZOFFSETTO:+0200
TZNAME:CEST
DTSTART:20260329T010000
END:DAYLIGHT
BEGIN:STANDARD
TZOFFSETFROM:+0200
TZOFFSETTO:+0100
TZNAME:CET
DTSTART:20261025T010000
END:STANDARD
END:VTIMEZONE
BEGIN:VEVENT
DTSTART;TZID=Europe/Madrid:20251205T200000
DTEND;TZID=Europe/Madrid:20251205T220000
DTSTAMP:20260424T114247
CREATED:20251117T100145Z
LAST-MODIFIED:20251117T100145Z
UID:18627-1764964800-1764972000@visitpalma.com
SUMMARY:El Messies\, de Händel
DESCRIPTION:Prop de 200 persones sobre l’escenari interpretaran aquesta obra culminant de la humanitat\, El Messies de Händel\, en format participatiu.  \nEl concert comptarà amb quatre solistes\, un nombrós grup de cantaires individuals\, cinc corals —una d’elles procedent de Menorca— i amb la novetat de la narració poètica dels textos\, cosa que acostarà encara més el públic al sentit profund de la música de Händel. \nEl Messies és un oratori compost per G. F. Händel sobre textos bíblics seleccionats per C. Jennens. Es va estrenar a Dublín el 13 d’abril de 1742. Tot i que la temàtica d’El Messies és més àmplia que la pròpiament nadalenca —abarca tota la vida\, passió\, mort i resurrecció de Jesús—\, és tradició en moltes ciutats del món interpretar-lo durant l’època de Nadal. A Palma també és així: aquest oratori s’ha interpretat en època nadalenca des de l’any 2005\, només amb el parèntesi forçat per la pandèmia. Moltes d’aquestes interpretacions han estat organitzades i subvencionades per la Fundació La Caixa\, en format participatiu. Les altres (2011\, 2012\, 2016\, 2017\, 2018\, 2019\, 2022\, 2023 i 2024) han estat produïdes per l’Orfeó Ramon Llull\, mantenint fórmules participatives.      \nEl Messies que promou l’Orfeó Ramon Llull\, El Messies dels cantaires\, és el tradicional\, el que manté la continuïtat dels Messies nadalencs a Palma\, ara també amb projecció cap a la Part Forana. Enguany es compleixen 20 anys d’aquests Messies participatius per Nadal a Palma. Serà una gran interpretació d’una obra extraordinària.
URL:https://visitpalma.com/ca/event/el-messies-de-handel/
LOCATION:Teatro Principal\, Carrer de la Riera\, 2\, Palma\, Illes Balears\, 07003
CATEGORIES:Música i dansa
ATTACH;FMTTYPE=image/jpeg:https://visitpalma.com/wp-content/uploads/2025/11/El-Mesias-de-Handel.jpg
END:VEVENT
BEGIN:VEVENT
DTSTART;TZID=Europe/Madrid:20251205T210000
DTEND;TZID=Europe/Madrid:20251205T223000
DTSTAMP:20260424T114247
CREATED:20251118T111158Z
LAST-MODIFIED:20251118T111158Z
UID:18692-1764968400-1764973800@visitpalma.com
SUMMARY:Los Secretos
DESCRIPTION:Després d’un 2024 d’èxit rotund amb A TU LADO: UN MUSICAL CON LOS SECRETOS\, que va conquerir els principals teatres d’Espanya i va culminar amb un apoteòsic final de gira al Wizink Center de Madrid\, la banda enceta el 2025 amb més força que mai i una agenda plena de nous projectes. \nContinuen emocionant-nos amb els seus concerts inoblidables i aquelles cançons que ja formen part de la història del nostre país i de les nostres vides. El seu format estrella\, amb la banda al complet\, tornarà a brillar amb el so inconfusible de Los Secretos: les guitarres d’Álvaro Urquijo\, Ramón Arroyo i Txetxu Altube\, el baix de Juanjo Ramos\, el piano de Jesús Redondo i la incombustible bateria de Santi Fernández. Un viatge sonor que ens transportarà al nostre passat i present\, perquè si alguna cosa han demostrat és que el temps no passa per Los Secretos.   \nInagotables\, incombustibles i amb més passió que mai\, Los Secretos estan preparats per omplir escenaris\, cors i pantalles.
URL:https://visitpalma.com/ca/event/los-secretos/
LOCATION:Auditorium Palma\, Av. Gabriel Roca\, 18\, Palma\, Illes Balears\, 07014\, Spain
CATEGORIES:Música i dansa
ATTACH;FMTTYPE=image/jpeg:https://visitpalma.com/wp-content/uploads/2025/11/Los-Secretos.jpg
END:VEVENT
END:VCALENDAR