BEGIN:VCALENDAR
VERSION:2.0
PRODID:-//Visit Palma - ECPv6.15.20//NONSGML v1.0//EN
CALSCALE:GREGORIAN
METHOD:PUBLISH
X-ORIGINAL-URL:https://visitpalma.com/ca/
X-WR-CALDESC:Esdeveniments per Visit Palma
REFRESH-INTERVAL;VALUE=DURATION:PT1H
X-Robots-Tag:noindex
X-PUBLISHED-TTL:PT1H
BEGIN:VTIMEZONE
TZID:Europe/Madrid
BEGIN:DAYLIGHT
TZOFFSETFROM:+0100
TZOFFSETTO:+0200
TZNAME:CEST
DTSTART:20240331T010000
END:DAYLIGHT
BEGIN:STANDARD
TZOFFSETFROM:+0200
TZOFFSETTO:+0100
TZNAME:CET
DTSTART:20241027T010000
END:STANDARD
BEGIN:DAYLIGHT
TZOFFSETFROM:+0100
TZOFFSETTO:+0200
TZNAME:CEST
DTSTART:20250330T010000
END:DAYLIGHT
BEGIN:STANDARD
TZOFFSETFROM:+0200
TZOFFSETTO:+0100
TZNAME:CET
DTSTART:20251026T010000
END:STANDARD
BEGIN:DAYLIGHT
TZOFFSETFROM:+0100
TZOFFSETTO:+0200
TZNAME:CEST
DTSTART:20260329T010000
END:DAYLIGHT
BEGIN:STANDARD
TZOFFSETFROM:+0200
TZOFFSETTO:+0100
TZNAME:CET
DTSTART:20261025T010000
END:STANDARD
END:VTIMEZONE
BEGIN:VEVENT
DTSTART;TZID=Europe/Madrid:20251203T200000
DTEND;TZID=Europe/Madrid:20251203T213000
DTSTAMP:20260424T114247
CREATED:20251117T094124Z
LAST-MODIFIED:20251117T094124Z
UID:18614-1764792000-1764797400@visitpalma.com
SUMMARY:Chicuelo i Marco Mezquida
DESCRIPTION:Una fusió de flamenc i jazz\, de dues ments brillants de la música. \nEl concert promet ser un viatge emocional i sonor\, on la complicitat entre els músics\, la creativitat i la passió es donaran cita en un mateix escenari. \nLa guitarra flamenca de Chicuelo i el piano inconfusible de Marco Mezquida tornen a unir-se per oferir-nos una experiència musical única. Del alma\, el seu nou treball\, és la culminació d’una trilogia que ha emocionat públic i crítica. Amb aquest disc\, acaben de guanyar el Premi Enderroc 2025 de la crítica al Millor Disc de Jazz. Una cita imprescindible per a qui estima la música sense etiquetes ni fronteres.   \nAmb la complicitat del percussionista Paco de Mode\, Chicuelo i Mezquida ens conviden a endinsar-nos en el seu món sonor. En aquest concert\, flamenc\, jazz i música clàssica s’agafen de la mà per crear moments de pur sentiment. Del almaens transporta a través de buleries\, rumbes\, tanguillos i balades\, amb el toc especial que han construït del 2017 fins avui.
URL:https://visitpalma.com/ca/event/chicuelo-i-marco-mezquida/
LOCATION:Teatro Principal\, Carrer de la Riera\, 2\, Palma\, Illes Balears\, 07003
CATEGORIES:Música i dansa
ATTACH;FMTTYPE=image/jpeg:https://visitpalma.com/wp-content/uploads/2025/11/chicuelo-y-marco-mezquida.jpg
END:VEVENT
END:VCALENDAR