BEGIN:VCALENDAR
VERSION:2.0
PRODID:-//Visit Palma - ECPv6.15.20//NONSGML v1.0//EN
CALSCALE:GREGORIAN
METHOD:PUBLISH
X-ORIGINAL-URL:https://visitpalma.com/ca/
X-WR-CALDESC:Esdeveniments per Visit Palma
REFRESH-INTERVAL;VALUE=DURATION:PT1H
X-Robots-Tag:noindex
X-PUBLISHED-TTL:PT1H
BEGIN:VTIMEZONE
TZID:Europe/Madrid
BEGIN:DAYLIGHT
TZOFFSETFROM:+0100
TZOFFSETTO:+0200
TZNAME:CEST
DTSTART:20240331T010000
END:DAYLIGHT
BEGIN:STANDARD
TZOFFSETFROM:+0200
TZOFFSETTO:+0100
TZNAME:CET
DTSTART:20241027T010000
END:STANDARD
BEGIN:DAYLIGHT
TZOFFSETFROM:+0100
TZOFFSETTO:+0200
TZNAME:CEST
DTSTART:20250330T010000
END:DAYLIGHT
BEGIN:STANDARD
TZOFFSETFROM:+0200
TZOFFSETTO:+0100
TZNAME:CET
DTSTART:20251026T010000
END:STANDARD
BEGIN:DAYLIGHT
TZOFFSETFROM:+0100
TZOFFSETTO:+0200
TZNAME:CEST
DTSTART:20260329T010000
END:DAYLIGHT
BEGIN:STANDARD
TZOFFSETFROM:+0200
TZOFFSETTO:+0100
TZNAME:CET
DTSTART:20261025T010000
END:STANDARD
END:VTIMEZONE
BEGIN:VEVENT
DTSTART;TZID=Europe/Madrid:20250107T110000
DTEND;TZID=Europe/Madrid:20251202T113000
DTSTAMP:20260424T125821
CREATED:20250910T084836Z
LAST-MODIFIED:20250910T084836Z
UID:16249-1736247600-1764675000@visitpalma.com
SUMMARY:Concierto de órgano en Iglesia de Santa Eulalia
DESCRIPTION:L’Església de Santa Eulàlia\, al cor de Palma\, obre les seves portes cada primer dimarts de mes per oferir al públic un moment únic de música i espiritualitat. Entre les 11:00 i les 11:30 hores\, aquest temple gòtic acull un concert gratuït\, on les notes ressonen sota les seves majestuoses voltes\, creant una atmosfera íntima i especial que uneix patrimoni històric i emoció artística.  \nL’any 2025\, els concerts se celebraran els dies: 7 de gener\, 4 de febrer\, 4 de març\, 1 d’abril\, 6 de maig\, 3 de juny\, 1 de juliol\, 5 d’agost\, 2 de setembre\, 7 d’octubre\, 4 de novembre i 2 de desembre.
URL:https://visitpalma.com/ca/event/concierto-de-organo-en-iglesia-de-santa-eulalia/
LOCATION:Iglesia de Santa Eulalia\, Plaça de Santa Eulàlia\, 1\, Palma\, 07001\, Spain
CATEGORIES:Música i dansa
ATTACH;FMTTYPE=image/png:https://visitpalma.com/wp-content/uploads/2025/09/Iglesia-Santa-Eulalia-Palma.png
END:VEVENT
BEGIN:VEVENT
DTSTART;VALUE=DATE:20251102
DTEND;VALUE=DATE:20251201
DTSTAMP:20260424T125821
CREATED:20251028T110325Z
LAST-MODIFIED:20251028T110325Z
UID:18243-1762041600-1764547199@visitpalma.com
SUMMARY:Mostres de Ball de Bot i Ballades Populars
DESCRIPTION:Palma celebra la riquesa de la dansa i dels vestits tradicionals de Mallorca durant tot el mes de novembre amb les “Mostres de Ball de Bot i Ballades Populars” – una sèrie d’espectacles a l’aire lliure que mostren la vitalitat del folklore mallorquí. \nOrganitzats en col·laboració amb agrupacions folklòriques locals\, aquests esdeveniments reten homenatge al patrimoni cultural de l’illa a través de mostres en viu de ball de bot\, música tradicional i vestits regionals bellament conservats: veritables símbols de la identitat mallorquina i de l’esperit mediterrani. \nCada mostra conclou amb una ballada popular oberta\, que convida tothom a unir-se i viure en primera persona l’alegria d’aquests ritmes centenaris.
URL:https://visitpalma.com/ca/event/mostres-de-ball-de-bot-i-ballades-populars/
LOCATION:Illes Balears
CATEGORIES:Música i dansa
ATTACH;FMTTYPE=image/jpeg:https://visitpalma.com/wp-content/uploads/2025/10/F12674-2.jpg
END:VEVENT
BEGIN:VEVENT
DTSTART;TZID=Europe/Madrid:20251120T080000
DTEND;TZID=Europe/Madrid:20251120T170000
DTSTAMP:20260424T125821
CREATED:20251001T082459Z
LAST-MODIFIED:20251001T082459Z
UID:16742-1763625600-1763658000@visitpalma.com
SUMMARY:Orquestra Simfònica Illes Balears\, #2 Cicle Auditorium de Palma
DESCRIPTION:L’Orquestra Simfònica Illes Balears torna a l’Auditorium Palma amb un programa emotiu i divers sota la direcció de Pablo Mielgo. Aquesta segona versió del concert inclou obres emblemàtiques de diferents estils i èpoques\, oferint al públic una experiència sinfònica plena de matisos. Un esdeveniment ideal per als amants de la música clàssica que volen redescobrir repertoris amb interpretació de qualitat.
URL:https://visitpalma.com/ca/event/orquestra-simfonica-illes-balears-2-cicle-auditorium-de-palma/
LOCATION:Auditorium Palma\, Av. Gabriel Roca\, 18\, Palma\, Illes Balears\, 07014\, Spain
CATEGORIES:Música i dansa
ATTACH;FMTTYPE=image/jpeg:https://visitpalma.com/wp-content/uploads/2025/10/OSIB-Palma-2025-2-Cicle.jpg
END:VEVENT
BEGIN:VEVENT
DTSTART;TZID=Europe/Madrid:20251120T200000
DTEND;TZID=Europe/Madrid:20251120T213000
DTSTAMP:20260424T125821
CREATED:20250929T121504Z
LAST-MODIFIED:20250929T121504Z
UID:16678-1763668800-1763674200@visitpalma.com
SUMMARY:Leo & Leo
DESCRIPTION:Leo Leo és un espectacle teatral que arriba al Teatre Principal de Palma amb una proposta íntima i evocadora. Combinant actuació\, música i narració\, explora identitats\, somnis i relacions humanes. Una vivència emotiva per a tots els públics.
URL:https://visitpalma.com/ca/event/leo-leo/
LOCATION:Teatro Principal\, Carrer de la Riera\, 2\, Palma\, Illes Balears\, 07003
CATEGORIES:Música i dansa
ATTACH;FMTTYPE=image/jpeg:https://visitpalma.com/wp-content/uploads/2025/09/Leo-Leo-Palma-2025.jpg
END:VEVENT
BEGIN:VEVENT
DTSTART;TZID=Europe/Madrid:20251120T210000
DTEND;TZID=Europe/Madrid:20251120T223000
DTSTAMP:20260424T125821
CREATED:20251006T074244Z
LAST-MODIFIED:20251006T074244Z
UID:16850-1763672400-1763677800@visitpalma.com
SUMMARY:This Is Michael
DESCRIPTION:“This Is Michael” arriba al Trui Teatre per retre homenatge al Rei del Pop en un espectacle de gran format que reviu els seus grans èxits\, coreografies mítiques i una producció audiovisual espectacular. Una experiència única per als fans de Michael Jackson.
URL:https://visitpalma.com/ca/event/this-is-michael/
LOCATION:Trui Teatre\, Camí de Son Rapinya\, 29\, Ponent\, Palma\, Illes Balears\, 07013\, Spain
CATEGORIES:Música i dansa
ATTACH;FMTTYPE=image/jpeg:https://visitpalma.com/wp-content/uploads/2025/10/This-Is-Michael-Palma-2025.jpg
END:VEVENT
END:VCALENDAR