BEGIN:VCALENDAR
VERSION:2.0
PRODID:-//Visit Palma - ECPv6.15.20//NONSGML v1.0//EN
CALSCALE:GREGORIAN
METHOD:PUBLISH
X-WR-CALNAME:Visit Palma
X-ORIGINAL-URL:https://visitpalma.com/ca/
X-WR-CALDESC:Esdeveniments per Visit Palma
REFRESH-INTERVAL;VALUE=DURATION:PT1H
X-Robots-Tag:noindex
X-PUBLISHED-TTL:PT1H
BEGIN:VTIMEZONE
TZID:Europe/Madrid
BEGIN:DAYLIGHT
TZOFFSETFROM:+0100
TZOFFSETTO:+0200
TZNAME:CEST
DTSTART:20250330T010000
END:DAYLIGHT
BEGIN:STANDARD
TZOFFSETFROM:+0200
TZOFFSETTO:+0100
TZNAME:CET
DTSTART:20251026T010000
END:STANDARD
BEGIN:DAYLIGHT
TZOFFSETFROM:+0100
TZOFFSETTO:+0200
TZNAME:CEST
DTSTART:20260329T010000
END:DAYLIGHT
BEGIN:STANDARD
TZOFFSETFROM:+0200
TZOFFSETTO:+0100
TZNAME:CET
DTSTART:20261025T010000
END:STANDARD
BEGIN:DAYLIGHT
TZOFFSETFROM:+0100
TZOFFSETTO:+0200
TZNAME:CEST
DTSTART:20270328T010000
END:DAYLIGHT
BEGIN:STANDARD
TZOFFSETFROM:+0200
TZOFFSETTO:+0100
TZNAME:CET
DTSTART:20271031T010000
END:STANDARD
END:VTIMEZONE
BEGIN:VEVENT
DTSTART;VALUE=DATE:20261009
DTEND;VALUE=DATE:20261010
DTSTAMP:20260424T102702
CREATED:20260326T110005Z
LAST-MODIFIED:20260415T090240Z
UID:19524-1791504000-1791590399@visitpalma.com
SUMMARY:ANTONIO OROZCO - LA GIRA DE TU VIDA
DESCRIPTION:Segur que reconeixes cançons com ‘Devuélveme la vida‘ o ‘Estoy hecho de pedacitos de ti‘. Així és\, Antonio Orozco\, l’home darrere d’aquests clàssics de la música espanyola\, arriba a Palma per oferir un concert com a part de la seva gira ‘La gira de tu vida‘\, continuació de l’èxit de la seva gira ‘La gira de mi vida‘. El mateix títol suggereix que aquesta gira serà tant la millor de la seva carrera com la millor gira a la qual assistiràs mai.   \nNo tots els dies aconsegueixes vore a un dels millors cantants i artistes de la musica espanyola. No et perdis l’oportunitat i fes-te amb la teva entrada mitjançant els canals oficials: la pàgina oficial de la gira i la pàgina oficial de Enterticket.
URL:https://visitpalma.com/ca/event/antonio-orozco-la-gira-de-mi-tu-vida/
LOCATION:Trui Son Fusteret\, Camí Vell de Bunyola\, s/n\, Nord\, Palma\, 07009\, Spain
CATEGORIES:Música i dansa
ATTACH;FMTTYPE=image/jpeg:https://visitpalma.com/wp-content/uploads/2026/03/antonio-orozco-la-gira-de-tu-vida-palma-son-fusteret.jpg
END:VEVENT
END:VCALENDAR